BEGIN:VCALENDAR
VERSION:2.0
PRODID:-//wp-events-plugin.com//7.2.3.1//EN
TZID:Europe/Madrid
X-WR-TIMEZONE:Europe/Madrid
BEGIN:VEVENT
UID:122@aproformacion.com
DTSTART;TZID=Europe/Madrid:20251122T070000
DTEND;TZID=Europe/Madrid:20251122T150000
DTSTAMP:20251105T125556Z
URL:https://aproformacion.com/events/%e2%ad%90-carretillas-elevadoras-2/
SUMMARY:⭐ Carretillas Elevadoras
DESCRIPTION:⭐ Carretillas Elevadoras\n\n⭐ 22/11 – Carretillas Eleva
 doras – 08:30 a 14:30
END:VEVENT
BEGIN:VTIMEZONE
TZID:Europe/Madrid
X-LIC-LOCATION:Europe/Madrid
BEGIN:STANDARD
DTSTART:20251026T020000
TZOFFSETFROM:+0200
TZOFFSETTO:+0100
TZNAME:CET
END:STANDARD
END:VTIMEZONE
END:VCALENDAR