BEGIN:VCALENDAR
VERSION:2.0
PRODID:-//wp-events-plugin.com//7.2.3.1//EN
TZID:Europe/Madrid
X-WR-TIMEZONE:Europe/Madrid
BEGIN:VEVENT
UID:123@aproformacion.com
DTSTART;TZID=Europe/Madrid:20251112T153000
DTEND;TZID=Europe/Madrid:20251112T203000
DTSTAMP:20251105T125707Z
URL:https://aproformacion.com/events/%e2%ad%90-plataformas-elevadoras-prac
 tico/
SUMMARY:⭐ Plataformas elevadoras (Practico)
DESCRIPTION:⭐ Plataformas elevadoras (Practico)\n\n•12/11 – Especial
 idad plataformas Elevadoras – 15:30 a 20:30
END:VEVENT
BEGIN:VTIMEZONE
TZID:Europe/Madrid
X-LIC-LOCATION:Europe/Madrid
BEGIN:STANDARD
DTSTART:20251026T020000
TZOFFSETFROM:+0200
TZOFFSETTO:+0100
TZNAME:CET
END:STANDARD
END:VTIMEZONE
END:VCALENDAR