BEGIN:VCALENDAR
VERSION:2.0
PRODID:-//wp-events-plugin.com//7.2.3.1//EN
TZID:Europe/Madrid
X-WR-TIMEZONE:Europe/Madrid
BEGIN:VEVENT
UID:17@aproformacion.com
DTSTART;TZID=Europe/Madrid:20250814T090000
DTEND;TZID=Europe/Madrid:20250814T140000
DTSTAMP:20250730T113253Z
URL:https://aproformacion.com/events/%f0%9f%9b%a0%ef%b8%8f-4h-reciclaje-c8
 -tratamientos-superficiales-del-metal/
SUMMARY:4H Reciclaje C8 – Tratamientos Superficiales del Metal
DESCRIPTION:🛠️ 4H Reciclaje C8 – Tratamientos Superficiales del Meta
 l\n\n 	14/08/2025 – 09:00 a 13:00\n
END:VEVENT
BEGIN:VTIMEZONE
TZID:Europe/Madrid
X-LIC-LOCATION:Europe/Madrid
BEGIN:DAYLIGHT
DTSTART:20250330T030000
TZOFFSETFROM:+0100
TZOFFSETTO:+0200
TZNAME:CEST
END:DAYLIGHT
END:VTIMEZONE
END:VCALENDAR