BEGIN:VCALENDAR
VERSION:2.0
PRODID:-//wp-events-plugin.com//7.2.3.1//EN
TZID:Europe/Madrid
X-WR-TIMEZONE:Europe/Madrid
BEGIN:VEVENT
UID:180@aproformacion.com
DTSTART;TZID=Europe/Madrid:20260126T150000
DTEND;TZID=Europe/Madrid:20260126T200000
DTSTAMP:20260113T173530Z
URL:https://aproformacion.com/events/20h-albanileria-10/
SUMMARY:20H Albañilería
DESCRIPTION:20H Albañilería (TARDES)\n26/01 – Día 1 – 15:00 a 20:00\
 n27/01 – Día 2 – 15:00 a 20:00\n28/01 – Día 3 – 15:00 a 19:00\n3
 0/01 – Especialidad albañilería – 09:15 a 15:15
END:VEVENT
BEGIN:VTIMEZONE
TZID:Europe/Madrid
X-LIC-LOCATION:Europe/Madrid
BEGIN:STANDARD
DTSTART:20251026T020000
TZOFFSETFROM:+0200
TZOFFSETTO:+0100
TZNAME:CET
END:STANDARD
END:VTIMEZONE
END:VCALENDAR