BEGIN:VCALENDAR
VERSION:2.0
PRODID:-//wp-events-plugin.com//7.2.3.1//EN
TZID:Europe/Madrid
X-WR-TIMEZONE:Europe/Madrid
BEGIN:VEVENT
UID:210@aproformacion.com
DTSTART;TZID=Europe/Madrid:20260219T120000
DTEND;TZID=Europe/Madrid:20260219T200000
DTSTAMP:20260216T160537Z
URL:https://aproformacion.com/events/20h-albanileria-13/
SUMMARY:20H Albañilería
DESCRIPTION:20H Albañilería \n\n19/02 – Día 1 – 12:00 a 20:00\n20/02
  – Día 2 – 07:00 a 15:00\n\n21/02 – Día 3 – Especialidad
END:VEVENT
BEGIN:VTIMEZONE
TZID:Europe/Madrid
X-LIC-LOCATION:Europe/Madrid
BEGIN:STANDARD
DTSTART:20251026T020000
TZOFFSETFROM:+0200
TZOFFSETTO:+0100
TZNAME:CET
END:STANDARD
END:VTIMEZONE
END:VCALENDAR