BEGIN:VCALENDAR
VERSION:2.0
PRODID:-//wp-events-plugin.com//7.2.3.1//EN
TZID:Europe/Madrid
X-WR-TIMEZONE:Europe/Madrid
BEGIN:VEVENT
UID:33@aproformacion.com
DTSTART;TZID=Europe/Madrid:20250904T090000
DTEND;TZID=Europe/Madrid:20250904T140000
DTSTAMP:20250829T110352Z
URL:https://aproformacion.com/events/20h-albanileria-2/
SUMMARY:20H ALBAÑILERIA
DESCRIPTION:\n 	04/09 – Día 1 – 09:00 a 14:00\n 	08/09 – Día 2 – 
 09:00 a 14:00\n 	09/09 – Día 3 – 09:00 a 13:00\n 	10/09 – Especiali
 dad Albañilería – 08:30 a 14:30\n
END:VEVENT
BEGIN:VTIMEZONE
TZID:Europe/Madrid
X-LIC-LOCATION:Europe/Madrid
BEGIN:DAYLIGHT
DTSTART:20250330T030000
TZOFFSETFROM:+0100
TZOFFSETTO:+0200
TZNAME:CEST
END:DAYLIGHT
END:VTIMEZONE
END:VCALENDAR