BEGIN:VCALENDAR
VERSION:2.0
PRODID:-//wp-events-plugin.com//7.2.3.1//EN
TZID:Europe/Madrid
X-WR-TIMEZONE:Europe/Madrid
BEGIN:VEVENT
UID:71@aproformacion.com
DTSTART;TZID=Europe/Madrid:20251006T090000
DTEND;TZID=Europe/Madrid:20251006T140000
DTSTAMP:20250925T161000Z
URL:https://aproformacion.com/events/20h-albanileria-4/
SUMMARY:20H Albañilería
DESCRIPTION:20H Albañilería\n\n• 06/10 – Día 1 – 09:00 a 14:00\n
 • 08/10 – Día 2 – 09:00 a 14:00\n• 13/10 – Día 3 – 09:00 a 1
 3:00\n• 14/10 – Especialidad Albañilería – 08:30 a 14:30
END:VEVENT
BEGIN:VTIMEZONE
TZID:Europe/Madrid
X-LIC-LOCATION:Europe/Madrid
BEGIN:DAYLIGHT
DTSTART:20250330T030000
TZOFFSETFROM:+0100
TZOFFSETTO:+0200
TZNAME:CEST
END:DAYLIGHT
END:VTIMEZONE
END:VCALENDAR