BEGIN:VCALENDAR
VERSION:2.0
PRODID:-//wp-events-plugin.com//7.2.3.1//EN
TZID:Europe/Madrid
X-WR-TIMEZONE:Europe/Madrid
BEGIN:VEVENT
UID:114@aproformacion.com
DTSTART;TZID=Europe/Madrid:20251110T090000
DTEND;TZID=Europe/Madrid:20251110T140000
DTSTAMP:20251105T124839Z
URL:https://aproformacion.com/events/20h-albanileria-7/
SUMMARY:20H Albañilería
DESCRIPTION:20H Albañilería\n\n• 10/11 – Día 1 – 09:00 a 14:00\n
 • 11/11 – Día 2 – 09:00 a 14:00\n• 12/11 – Día 3 – 09:00 a 1
 3:00\n• 13/11 – Especialidad Albañilería – 08:30 A 14:30
END:VEVENT
BEGIN:VTIMEZONE
TZID:Europe/Madrid
X-LIC-LOCATION:Europe/Madrid
BEGIN:STANDARD
DTSTART:20251026T020000
TZOFFSETFROM:+0200
TZOFFSETTO:+0100
TZNAME:CET
END:STANDARD
END:VTIMEZONE
END:VCALENDAR