BEGIN:VCALENDAR
VERSION:2.0
PRODID:-//wp-events-plugin.com//7.2.3.1//EN
TZID:Europe/Madrid
X-WR-TIMEZONE:Europe/Madrid
BEGIN:VEVENT
UID:135@aproformacion.com
DTSTART;TZID=Europe/Madrid:20251219T080000
DTEND;TZID=Europe/Madrid:20251219T150000
DTSTAMP:20251125T090414Z
URL:https://aproformacion.com/events/20h-ascensores-2/
SUMMARY:20H Ascensores
DESCRIPTION:20H Ascensores\n\n• 19/12 – Día 1 – 08:00 A 15:00\n• 2
 2/12 – Día 2 – 08:00 A 15:00\n• 18/12 – Especialidad ascensores 
 – 08:00 A 14:00
END:VEVENT
BEGIN:VTIMEZONE
TZID:Europe/Madrid
X-LIC-LOCATION:Europe/Madrid
BEGIN:STANDARD
DTSTART:20251026T020000
TZOFFSETFROM:+0200
TZOFFSETTO:+0100
TZNAME:CET
END:STANDARD
END:VTIMEZONE
END:VCALENDAR