BEGIN:VCALENDAR
VERSION:2.0
PRODID:-//wp-events-plugin.com//7.2.3.1//EN
TZID:Europe/Madrid
X-WR-TIMEZONE:Europe/Madrid
BEGIN:VEVENT
UID:70@aproformacion.com
DTSTART;TZID=Europe/Madrid:20251006T080000
DTEND;TZID=Europe/Madrid:20251006T150000
DTSTAMP:20250925T160848Z
URL:https://aproformacion.com/events/20h-ascensores/
SUMMARY:20H Ascensores
DESCRIPTION:20H Ascensores\n\n• 06/10 – Día 1 – 08:00 A 15:00\n• 0
 7/10 – Día 2 – 08:00 A 15:00\n• 08/10 – Día 3 – 08:30 A 14:30
END:VEVENT
BEGIN:VTIMEZONE
TZID:Europe/Madrid
X-LIC-LOCATION:Europe/Madrid
BEGIN:DAYLIGHT
DTSTART:20250330T030000
TZOFFSETFROM:+0100
TZOFFSETTO:+0200
TZNAME:CEST
END:DAYLIGHT
END:VTIMEZONE
END:VCALENDAR