BEGIN:VCALENDAR
VERSION:2.0
PRODID:-//wp-events-plugin.com//7.2.3.1//EN
TZID:Europe/Madrid
X-WR-TIMEZONE:Europe/Madrid
BEGIN:VEVENT
UID:257@aproformacion.com
DTSTART;TZID=Europe/Madrid:20260324T080000
DTEND;TZID=Europe/Madrid:20260324T150000
DTSTAMP:20260312T154132Z
URL:https://aproformacion.com/events/20h-c12-trabajos-de-mecanica-mantenim
 iento-y-reparacion-de-maquinas-equipos-industriales-y-electrodomesticos-2/
SUMMARY:20H C12 – Trabajos de mecánica\, mantenimiento y reparación de 
 máquinas\, equipos industriales y electrodomésticos.
DESCRIPTION:20H 🔩🛠️⚙️ C12 – Trabajos de mecánica\, mantenimi
 ento y reparación de máquinas\, equipos industriales y electrodoméstico
 s.\n\n24/03 – Día 1 – 08:00 a 15:00\n25/03 – Día 2 – 08:00 a 15:
 00\n30/03 – Dia 4 – Especialidad - de 09:00 a 14:00 y de 15:00 a 18:0
 0
END:VEVENT
BEGIN:VTIMEZONE
TZID:Europe/Madrid
X-LIC-LOCATION:Europe/Madrid
BEGIN:STANDARD
DTSTART:20251026T020000
TZOFFSETFROM:+0200
TZOFFSETTO:+0100
TZNAME:CET
END:STANDARD
END:VTIMEZONE
END:VCALENDAR