BEGIN:VCALENDAR
VERSION:2.0
PRODID:-//wp-events-plugin.com//7.2.3.1//EN
TZID:Europe/Madrid
X-WR-TIMEZONE:Europe/Madrid
BEGIN:VEVENT
UID:259@aproformacion.com
DTSTART;TZID=Europe/Madrid:20260324T080000
DTEND;TZID=Europe/Madrid:20260324T150000
DTSTAMP:20260312T154319Z
URL:https://aproformacion.com/events/20h-c13-trabajos-en-talleres-de-repar
 acion-de-vehiculos/
SUMMARY:20H  C13 – Trabajos en Talleres de Reparación de Vehículos 
DESCRIPTION:20H 🚗🔧C13 – Trabajos en Talleres de Reparación de Veh
 ículos \n\n24/03 – Día 1 – 08:00 a 15:00\n25/03 – Día 2 – 08:0
 0 a 15:00\n31/03 – Dia 4 – Especialidad - de 08:00 a 14:00 y de 15:00
  a 17:00
END:VEVENT
BEGIN:VTIMEZONE
TZID:Europe/Madrid
X-LIC-LOCATION:Europe/Madrid
BEGIN:STANDARD
DTSTART:20251026T020000
TZOFFSETFROM:+0200
TZOFFSETTO:+0100
TZNAME:CET
END:STANDARD
END:VTIMEZONE
END:VCALENDAR