BEGIN:VCALENDAR
VERSION:2.0
PRODID:-//wp-events-plugin.com//7.2.3.1//EN
TZID:Europe/Madrid
X-WR-TIMEZONE:Europe/Madrid
BEGIN:VEVENT
UID:155@aproformacion.com
DTSTART;TZID=Europe/Madrid:20251215T080000
DTEND;TZID=Europe/Madrid:20251215T140000
DTSTAMP:20251202T170046Z
URL:https://aproformacion.com/events/20h-c25-trabajos-de-control-de-calida
 d-verificacion-e-inspeccion/
SUMMARY:20H C25 - Trabajos de control de calidad\, verificación e inspecci
 ón
DESCRIPTION:20H C25 Control de calidad\n\n• 15/12 – Día 1 – 08:00 A 
 14:00\n• 16/12 – Día 2 – 08:00 A 14:00\n• 17/12 – Especialidad 
 Control de calidad – 08:00 A 14:00 Y DE 15:30 A 17:30
END:VEVENT
BEGIN:VTIMEZONE
TZID:Europe/Madrid
X-LIC-LOCATION:Europe/Madrid
BEGIN:STANDARD
DTSTART:20251026T020000
TZOFFSETFROM:+0200
TZOFFSETTO:+0100
TZNAME:CET
END:STANDARD
END:VTIMEZONE
END:VCALENDAR