BEGIN:VCALENDAR
VERSION:2.0
PRODID:-//wp-events-plugin.com//7.2.3.1//EN
TZID:Europe/Madrid
X-WR-TIMEZONE:Europe/Madrid
BEGIN:VEVENT
UID:196@aproformacion.com
DTSTART;TZID=Europe/Madrid:20260206T090000
DTEND;TZID=Europe/Madrid:20260206T150000
DTSTAMP:20260130T132548Z
URL:https://aproformacion.com/events/20h-c4-trabajos-de-soldadura-y-oxicor
 te/
SUMMARY:20H  C4 – Trabajos de soldadura y oxicorte
DESCRIPTION:🔥🧑‍🏭🔧20H  C4 – Trabajos de soldadura y oxicort
 e\n\n06/02 – Día 1 – 09:00 a 15:00\n09/02 – Día 2 – 09:00 a 15:0
 0\n11/02 – Trabajos de soldadura y oxicorte – 09:00 a 14:00 y de 15:15
  a 18:15
END:VEVENT
BEGIN:VTIMEZONE
TZID:Europe/Madrid
X-LIC-LOCATION:Europe/Madrid
BEGIN:STANDARD
DTSTART:20251026T020000
TZOFFSETFROM:+0200
TZOFFSETTO:+0100
TZNAME:CET
END:STANDARD
END:VTIMEZONE
END:VCALENDAR