BEGIN:VCALENDAR
VERSION:2.0
PRODID:-//wp-events-plugin.com//7.2.3.1//EN
TZID:Europe/Madrid
X-WR-TIMEZONE:Europe/Madrid
BEGIN:VEVENT
UID:171@aproformacion.com
DTSTART;TZID=Europe/Madrid:20260120T090000
DTEND;TZID=Europe/Madrid:20260120T140000
DTSTAMP:20260107T121334Z
URL:https://aproformacion.com/events/20h-carpinteria-metalica-10/
SUMMARY:20H Carpintería metálica
DESCRIPTION:20H Carpintería metálica \n\n• 20/01 – Día 1 · 09:00 a 
 14:00\n• 21/01 – Día 2 · 09:00 a 14:00\n• 22/01 – Día 3 · 09:0
 0 a 13:00\n• 23/01 – Especialidad carpintería metálica · 08:00 a 14
 :00
END:VEVENT
BEGIN:VTIMEZONE
TZID:Europe/Madrid
X-LIC-LOCATION:Europe/Madrid
BEGIN:STANDARD
DTSTART:20251026T020000
TZOFFSETFROM:+0200
TZOFFSETTO:+0100
TZNAME:CET
END:STANDARD
END:VTIMEZONE
END:VCALENDAR