BEGIN:VCALENDAR
VERSION:2.0
PRODID:-//wp-events-plugin.com//7.2.3.1//EN
TZID:Europe/Madrid
X-WR-TIMEZONE:Europe/Madrid
BEGIN:VEVENT
UID:27@aproformacion.com
DTSTART;TZID=Europe/Madrid:20250902T080000
DTEND;TZID=Europe/Madrid:20250902T150000
DTSTAMP:20250829T105756Z
URL:https://aproformacion.com/events/20h-carpinteria-metalica-2/
SUMMARY:20H CARPINTERIA METALICA
DESCRIPTION:\n 	02/09 – Día 1 – 08:00 a 15:00\n 	03/09 – Día 2 – 
 08:00 a 15:00\n 	 05/09 – Especialidad Carpintería Metálica – 08:00
  a 14:00\n
END:VEVENT
BEGIN:VTIMEZONE
TZID:Europe/Madrid
X-LIC-LOCATION:Europe/Madrid
BEGIN:DAYLIGHT
DTSTART:20250330T030000
TZOFFSETFROM:+0100
TZOFFSETTO:+0200
TZNAME:CEST
END:DAYLIGHT
END:VTIMEZONE
END:VCALENDAR