BEGIN:VCALENDAR
VERSION:2.0
PRODID:-//wp-events-plugin.com//7.2.3.1//EN
TZID:Europe/Madrid
X-WR-TIMEZONE:Europe/Madrid
BEGIN:VEVENT
UID:61@aproformacion.com
DTSTART;TZID=Europe/Madrid:20250929T090000
DTEND;TZID=Europe/Madrid:20250929T140000
DTSTAMP:20250920T074026Z
URL:https://aproformacion.com/events/20h-carpinteria-metalica-4/
SUMMARY:20H CARPINTERIA METALICA
DESCRIPTION:20H Carpintería Metálica — Especialidad\n• 29/09 – Día
  1 – 09:00 A 14:00\n• 30/09 – Día 2 – 09:00 A 14:00\n• 01/10 
 – Día 3 – 09:00 A 13:00\n• 02/10 – Especialidad carpintería met
 álica – 08:30 A 14:30
END:VEVENT
BEGIN:VTIMEZONE
TZID:Europe/Madrid
X-LIC-LOCATION:Europe/Madrid
BEGIN:DAYLIGHT
DTSTART:20250330T030000
TZOFFSETFROM:+0100
TZOFFSETTO:+0200
TZNAME:CEST
END:DAYLIGHT
END:VTIMEZONE
END:VCALENDAR