BEGIN:VCALENDAR
VERSION:2.0
PRODID:-//wp-events-plugin.com//7.2.3.1//EN
TZID:Europe/Madrid
X-WR-TIMEZONE:Europe/Madrid
BEGIN:VEVENT
UID:65@aproformacion.com
DTSTART;TZID=Europe/Madrid:20251013T090000
DTEND;TZID=Europe/Madrid:20251016T140000
DTSTAMP:20250925T160302Z
URL:https://aproformacion.com/events/20h-carpinteria-metalica-5/
SUMMARY:20H Carpintería Metálica
DESCRIPTION:20H Carpintería Metálica0:\n\n• 13/10 – Día 1 – 09:00 
 A 14:00\n• 14/10 – Día 2 – 09:00 A 14:00\n• 15/10 – Día 3 – 
 09:00 A 13:00\n• 16/10 – Especialidad carpintería metálica – 08:30
  a 14:30
END:VEVENT
BEGIN:VTIMEZONE
TZID:Europe/Madrid
X-LIC-LOCATION:Europe/Madrid
BEGIN:DAYLIGHT
DTSTART:20250330T030000
TZOFFSETFROM:+0100
TZOFFSETTO:+0200
TZNAME:CEST
END:DAYLIGHT
END:VTIMEZONE
END:VCALENDAR