BEGIN:VCALENDAR
VERSION:2.0
PRODID:-//wp-events-plugin.com//7.2.3.1//EN
TZID:Europe/Madrid
X-WR-TIMEZONE:Europe/Madrid
BEGIN:VEVENT
UID:104@aproformacion.com
DTSTART;TZID=Europe/Madrid:20251027T083000
DTEND;TZID=Europe/Madrid:20251027T143000
DTSTAMP:20251023T124440Z
URL:https://aproformacion.com/events/20h-carpinteria-metalica-6/
SUMMARY:20H Carpintería metálica
DESCRIPTION:20H Carpintería metálica \n\n• 27/10 – Día 1 – 09:00 a
  14:00\n• 28/10 – Día 2 – 09:00 a 14:00\n• 29/10 – Día 3 – 0
 9:00 a 13:00\n• 31/10 – Especialidad Carpintería metálica  – 08:3
 0 a 14:30
END:VEVENT
BEGIN:VTIMEZONE
TZID:Europe/Madrid
X-LIC-LOCATION:Europe/Madrid
BEGIN:STANDARD
DTSTART:20251026T020000
TZOFFSETFROM:+0200
TZOFFSETTO:+0100
TZNAME:CET
END:STANDARD
END:VTIMEZONE
END:VCALENDAR