BEGIN:VCALENDAR
VERSION:2.0
PRODID:-//wp-events-plugin.com//7.2.3.1//EN
TZID:Europe/Madrid
X-WR-TIMEZONE:Europe/Madrid
BEGIN:VEVENT
UID:108@aproformacion.com
DTSTART;TZID=Europe/Madrid:20251124T080000
DTEND;TZID=Europe/Madrid:20251124T150000
DTSTAMP:20251105T124240Z
URL:https://aproformacion.com/events/20h-carpinteria-metalica-8/
SUMMARY:20H Carpintería Metálica
DESCRIPTION:20H Carpintería Metálica\n\n• 24/11 – Día 1 – 08:00 A 
 15:00\n• 25/11 – Día 2 – 08:00 A 15:00\n• 26/11 – Especialidad 
 carpintería metálica – 08:00 a 14:00
END:VEVENT
BEGIN:VTIMEZONE
TZID:Europe/Madrid
X-LIC-LOCATION:Europe/Madrid
BEGIN:STANDARD
DTSTART:20251026T020000
TZOFFSETFROM:+0200
TZOFFSETTO:+0100
TZNAME:CET
END:STANDARD
END:VTIMEZONE
END:VCALENDAR