BEGIN:VCALENDAR
VERSION:2.0
PRODID:-//wp-events-plugin.com//7.2.3.1//EN
TZID:Europe/Madrid
X-WR-TIMEZONE:Europe/Madrid
BEGIN:VEVENT
UID:145@aproformacion.com
DTSTART;TZID=Europe/Madrid:20251209T090000
DTEND;TZID=Europe/Madrid:20251209T140000
DTSTAMP:20251202T165303Z
URL:https://aproformacion.com/events/20h-carpinteria-metalica-9/
SUMMARY:20H Carpintería Metálica
DESCRIPTION:\n 	 09/12 – Día 1 – 09:00 A 14:00\n 	 10/12 – Día 2 
 – 09:00 A 14:00\n 	 11/12 – Día 1 – 09:00 A 13:00\n 	12/12 – Esp
 ecialidad carpintería metálica – 08:00 a 14:00\n
END:VEVENT
BEGIN:VTIMEZONE
TZID:Europe/Madrid
X-LIC-LOCATION:Europe/Madrid
BEGIN:STANDARD
DTSTART:20251026T020000
TZOFFSETFROM:+0200
TZOFFSETTO:+0100
TZNAME:CET
END:STANDARD
END:VTIMEZONE
END:VCALENDAR