BEGIN:VCALENDAR
VERSION:2.0
PRODID:-//wp-events-plugin.com//7.2.3.1//EN
TZID:Europe/Madrid
X-WR-TIMEZONE:Europe/Madrid
BEGIN:VEVENT
UID:5@aproformacion.com
DTSTART;TZID=Europe/Madrid:20250729T090000
DTEND;TZID=Europe/Madrid:20250729T140000
DTSTAMP:20250724T122452Z
URL:https://aproformacion.com/events/20h-carpinteria-metalica-dia-2/
SUMMARY:20H Carpintería Metálica día 2
DESCRIPTION:20H Instalaciones\, reparaciones\, montajes\, estructuras metá
 licas\, cerrajería y carpintería metálica
END:VEVENT
BEGIN:VTIMEZONE
TZID:Europe/Madrid
X-LIC-LOCATION:Europe/Madrid
BEGIN:DAYLIGHT
DTSTART:20250330T030000
TZOFFSETFROM:+0100
TZOFFSETTO:+0200
TZNAME:CEST
END:DAYLIGHT
END:VTIMEZONE
END:VCALENDAR