BEGIN:VCALENDAR
VERSION:2.0
PRODID:-//wp-events-plugin.com//7.2.3.1//EN
TZID:Europe/Madrid
X-WR-TIMEZONE:Europe/Madrid
BEGIN:VEVENT
UID:6@aproformacion.com
DTSTART;TZID=Europe/Madrid:20250730T090000
DTEND;TZID=Europe/Madrid:20250730T130000
DTSTAMP:20250724T122535Z
URL:https://aproformacion.com/events/20h-carpinteria-metalica-dia-3/
SUMMARY:20H Carpintería Metálica día 3
DESCRIPTION:20H Instalaciones\, reparaciones\, montajes\, estructuras metá
 licas\, cerrajería y carpintería metálica
END:VEVENT
BEGIN:VTIMEZONE
TZID:Europe/Madrid
X-LIC-LOCATION:Europe/Madrid
BEGIN:DAYLIGHT
DTSTART:20250330T030000
TZOFFSETFROM:+0100
TZOFFSETTO:+0200
TZNAME:CEST
END:DAYLIGHT
END:VTIMEZONE
END:VCALENDAR