BEGIN:VCALENDAR
VERSION:2.0
PRODID:-//wp-events-plugin.com//7.2.3.1//EN
TZID:Europe/Madrid
X-WR-TIMEZONE:Europe/Madrid
BEGIN:VEVENT
UID:92@aproformacion.com
DTSTART;TZID=Europe/Madrid:20251027T140000
DTEND;TZID=Europe/Madrid:20251027T190000
DTSTAMP:20251008T140508Z
URL:https://aproformacion.com/events/20h-electricidad-5/
SUMMARY:20H Electricidad
DESCRIPTION:20H Electricidad\n\n• 27/10 – Día 1 – 14:00 A 19:00\n•
  28/10 – Día 2 – 14:00 A 19:00\n• 29/10 – Día 3 – 14:00 A 18:0
 0\n• 30/10 – Especialidad Electricidad – 13:00 A 19:00
END:VEVENT
BEGIN:VTIMEZONE
TZID:Europe/Madrid
X-LIC-LOCATION:Europe/Madrid
BEGIN:STANDARD
DTSTART:20251026T020000
TZOFFSETFROM:+0200
TZOFFSETTO:+0100
TZNAME:CET
END:STANDARD
END:VTIMEZONE
END:VCALENDAR