BEGIN:VCALENDAR
VERSION:2.0
PRODID:-//wp-events-plugin.com//7.2.3.1//EN
TZID:Europe/Madrid
X-WR-TIMEZONE:Europe/Madrid
BEGIN:VEVENT
UID:132@aproformacion.com
DTSTART;TZID=Europe/Madrid:20251215T090000
DTEND;TZID=Europe/Madrid:20251215T140000
DTSTAMP:20251125T090205Z
URL:https://aproformacion.com/events/20h-electricidad-7/
SUMMARY:20H Electricidad
DESCRIPTION:&nbsp\;\n\n20H Electricidad\n\n 	 15/12 – Día 1 – 09:00 A 
 14:00\n 	16/12 – Día 2 – 09:00 A 14:00\n 	17/12 – Día 3 – 09:00 
 A 13:00\n 	18/12 – Especialidad Electricidad – 09:00 A 15:00\n
END:VEVENT
BEGIN:VTIMEZONE
TZID:Europe/Madrid
X-LIC-LOCATION:Europe/Madrid
BEGIN:STANDARD
DTSTART:20251026T020000
TZOFFSETFROM:+0200
TZOFFSETTO:+0100
TZNAME:CET
END:STANDARD
END:VTIMEZONE
END:VCALENDAR