BEGIN:VCALENDAR
VERSION:2.0
PRODID:-//wp-events-plugin.com//7.2.3.1//EN
TZID:Europe/Madrid
X-WR-TIMEZONE:Europe/Madrid
BEGIN:VEVENT
UID:160@aproformacion.com
DTSTART;TZID=Europe/Madrid:20260112T080000
DTEND;TZID=Europe/Madrid:20260112T150000
DTSTAMP:20260107T120100Z
URL:https://aproformacion.com/events/20h-electricidad-8/
SUMMARY:20H Electricidad
DESCRIPTION:• 12/01 – Día 1 – 08:00 a 15:00\n• 13/01 – Día 2 
 – 08:00 a 15:00\n• 14/01 – Especialidad electricidad – 08:00 a 14:
 00
END:VEVENT
BEGIN:VTIMEZONE
TZID:Europe/Madrid
X-LIC-LOCATION:Europe/Madrid
BEGIN:STANDARD
DTSTART:20251026T020000
TZOFFSETFROM:+0200
TZOFFSETTO:+0100
TZNAME:CET
END:STANDARD
END:VTIMEZONE
END:VCALENDAR