BEGIN:VCALENDAR
VERSION:2.0
PRODID:-//wp-events-plugin.com//7.2.3.1//EN
TZID:Europe/Madrid
X-WR-TIMEZONE:Europe/Madrid
BEGIN:VEVENT
UID:173@aproformacion.com
DTSTART;TZID=Europe/Madrid:20260120T090000
DTEND;TZID=Europe/Madrid:20260120T140000
DTSTAMP:20260107T121521Z
URL:https://aproformacion.com/events/20h-fontaneria-3/
SUMMARY:20H Fontanería
DESCRIPTION:20H Fontanería  \n\n• 20/01 – Día 1 · 09:00 a 14:00\n
 • 21/01 – Día 2 · 09:00 a 14:00\n• 22/01 – Día 3 · 09:00 a 13:
 00\n• 23/01 – Especialidad fontanería · 09:00 a 15:00
END:VEVENT
BEGIN:VTIMEZONE
TZID:Europe/Madrid
X-LIC-LOCATION:Europe/Madrid
BEGIN:STANDARD
DTSTART:20251026T020000
TZOFFSETFROM:+0200
TZOFFSETTO:+0100
TZNAME:CET
END:STANDARD
END:VTIMEZONE
END:VCALENDAR