BEGIN:VCALENDAR
VERSION:2.0
PRODID:-//wp-events-plugin.com//7.2.3.1//EN
TZID:Europe/Madrid
X-WR-TIMEZONE:Europe/Madrid
BEGIN:VEVENT
UID:202@aproformacion.com
DTSTART;TZID=Europe/Madrid:20260210T090000
DTEND;TZID=Europe/Madrid:20260210T140000
DTSTAMP:20260130T133202Z
URL:https://aproformacion.com/events/20h-impermeabilizacion-10/
SUMMARY:20H Impermeabilización
DESCRIPTION:💧20H Impermeabilización \n\n10/02 – Día 1 – 09:00 a 14
 :00\n11/02 – Día 2 – 09:00 a 14:00\n12/02 – Día 3 – 09:00 a 13:0
 0\n13/02 – Especialidad albañilería – 08:00 a 14:00
END:VEVENT
BEGIN:VTIMEZONE
TZID:Europe/Madrid
X-LIC-LOCATION:Europe/Madrid
BEGIN:STANDARD
DTSTART:20251026T020000
TZOFFSETFROM:+0200
TZOFFSETTO:+0100
TZNAME:CET
END:STANDARD
END:VTIMEZONE
END:VCALENDAR