BEGIN:VCALENDAR
VERSION:2.0
PRODID:-//wp-events-plugin.com//7.2.3.1//EN
TZID:Europe/Madrid
X-WR-TIMEZONE:Europe/Madrid
BEGIN:VEVENT
UID:251@aproformacion.com
DTSTART;TZID=Europe/Madrid:20260323T090000
DTEND;TZID=Europe/Madrid:20260323T140000
DTSTAMP:20260312T153608Z
URL:https://aproformacion.com/events/20h-impermeabilizacion-13/
SUMMARY:20H Impermeabilización
DESCRIPTION:💧20H Impermeabilización\n\n23/03 – Día 1 – 09:00 a 14:
 00\n24/03 – Día 2 – 09:00 a 14:00\n25/03 – Día 3 – 09:00 a 13:00
 \n26/03 – Dia 4 – Especialidad impermeabilización – 09:00 a 15:00
END:VEVENT
BEGIN:VTIMEZONE
TZID:Europe/Madrid
X-LIC-LOCATION:Europe/Madrid
BEGIN:STANDARD
DTSTART:20251026T020000
TZOFFSETFROM:+0200
TZOFFSETTO:+0100
TZNAME:CET
END:STANDARD
END:VTIMEZONE
END:VCALENDAR