BEGIN:VCALENDAR
VERSION:2.0
PRODID:-//wp-events-plugin.com//7.2.3.1//EN
TZID:Europe/Madrid
X-WR-TIMEZONE:Europe/Madrid
BEGIN:VEVENT
UID:179@aproformacion.com
DTSTART;TZID=Europe/Madrid:20260126T090000
DTEND;TZID=Europe/Madrid:20260126T160000
DTSTAMP:20260113T173458Z
URL:https://aproformacion.com/events/20h-mandos-intermedios-2/
SUMMARY:20H Mandos intermedios
DESCRIPTION:Mandos intermedios\n26/01 – Día 1 – 09:00 a 16:00\n27/01 
 – Día 2 – 09:00 a 16:00\n28/01 – Día 3 – 09:00 a 15:00
END:VEVENT
BEGIN:VTIMEZONE
TZID:Europe/Madrid
X-LIC-LOCATION:Europe/Madrid
BEGIN:STANDARD
DTSTART:20251026T020000
TZOFFSETFROM:+0200
TZOFFSETTO:+0100
TZNAME:CET
END:STANDARD
END:VTIMEZONE
END:VCALENDAR