BEGIN:VCALENDAR
VERSION:2.0
PRODID:-//wp-events-plugin.com//7.2.3.1//EN
TZID:Europe/Madrid
X-WR-TIMEZONE:Europe/Madrid
BEGIN:VEVENT
UID:55@aproformacion.com
DTSTART;TZID=Europe/Madrid:20250922T140000
DTEND;TZID=Europe/Madrid:20250922T190000
DTSTAMP:20250905T101810Z
URL:https://aproformacion.com/events/20h-movimiento-de-tierras-2/
SUMMARY:20H MOVIMIENTO DE TIERRAS
DESCRIPTION:20H MOVIMIENTO DE TIERRAS\n\nDIA 22/09/2025 DE 14:00 A 19:00\n\
 nDIA 23/09/2025 DE 14:00 A 19:00\n\nDIA 24/09/2025 DE 14:00 A 18:00\n\nDIA
  25/09/2025 DE 13:00 A 19:00
END:VEVENT
BEGIN:VTIMEZONE
TZID:Europe/Madrid
X-LIC-LOCATION:Europe/Madrid
BEGIN:DAYLIGHT
DTSTART:20250330T030000
TZOFFSETFROM:+0100
TZOFFSETTO:+0200
TZNAME:CEST
END:DAYLIGHT
END:VTIMEZONE
END:VCALENDAR