BEGIN:VCALENDAR
VERSION:2.0
PRODID:-//wp-events-plugin.com//7.2.3.1//EN
TZID:Europe/Madrid
X-WR-TIMEZONE:Europe/Madrid
BEGIN:VEVENT
UID:166@aproformacion.com
DTSTART;TZID=Europe/Madrid:20260115T080000
DTEND;TZID=Europe/Madrid:20260115T150000
DTSTAMP:20260107T120707Z
URL:https://aproformacion.com/events/20h-prefabricados-de-hormigon/
SUMMARY:20H Prefabricados de hormigón
DESCRIPTION:20H Prefabricados de hormigón\n\n• 15/01 – Día 1 – 08:0
 0 a 15:00\n• 16/01 – Día 2 – 08:00 a 15:00\n• 19/01 – Prefabric
 ados de hormigón – 09:00 a 15:00
END:VEVENT
BEGIN:VTIMEZONE
TZID:Europe/Madrid
X-LIC-LOCATION:Europe/Madrid
BEGIN:STANDARD
DTSTART:20251026T020000
TZOFFSETFROM:+0200
TZOFFSETTO:+0100
TZNAME:CET
END:STANDARD
END:VTIMEZONE
END:VCALENDAR