BEGIN:VCALENDAR
VERSION:2.0
PRODID:-//wp-events-plugin.com//7.2.3.1//EN
TZID:Europe/Madrid
X-WR-TIMEZONE:Europe/Madrid
BEGIN:VEVENT
UID:248@aproformacion.com
DTSTART;TZID=Europe/Madrid:20260317T090000
DTEND;TZID=Europe/Madrid:20260317T130000
DTSTAMP:20260312T153053Z
URL:https://aproformacion.com/events/4h-c-7-curso-para-operarios-de-maquin
 as-de-mecanizado-por-deformacion-y-corte-del-metal/
SUMMARY:4H C.7) Curso para operarios de máquinas de mecanizado por deforma
 ción y corte del metal.
DESCRIPTION:⚙️🪛 4H C.7) Curso para operarios de máquinas de mecaniz
 ado por deformación y corte del metal.\n\n17/03 –Especialidad– 09:00 
 a 13:00
END:VEVENT
BEGIN:VTIMEZONE
TZID:Europe/Madrid
X-LIC-LOCATION:Europe/Madrid
BEGIN:STANDARD
DTSTART:20251026T020000
TZOFFSETFROM:+0200
TZOFFSETTO:+0100
TZNAME:CET
END:STANDARD
END:VTIMEZONE
END:VCALENDAR