BEGIN:VCALENDAR
VERSION:2.0
PRODID:-//wp-events-plugin.com//7.2.3.1//EN
TZID:Europe/Madrid
X-WR-TIMEZONE:Europe/Madrid
BEGIN:VEVENT
UID:126@aproformacion.com
DTSTART;TZID=Europe/Madrid:20251204T090000
DTEND;TZID=Europe/Madrid:20251204T120000
DTSTAMP:20251125T085428Z
URL:https://aproformacion.com/events/4h-reciclaje-carpinteria-metalica/
SUMMARY:4H Reciclaje Carpintería metálica
DESCRIPTION:4H Reciclaje Carpintería metálica\n• 09/12 – Especialidad
  carpintería metálica – 09:00 A 12:00
END:VEVENT
BEGIN:VTIMEZONE
TZID:Europe/Madrid
X-LIC-LOCATION:Europe/Madrid
BEGIN:STANDARD
DTSTART:20251026T020000
TZOFFSETFROM:+0200
TZOFFSETTO:+0100
TZNAME:CET
END:STANDARD
END:VTIMEZONE
END:VCALENDAR