BEGIN:VCALENDAR
VERSION:2.0
PRODID:-//wp-events-plugin.com//7.2.3.1//EN
TZID:Europe/Madrid
X-WR-TIMEZONE:Europe/Madrid
BEGIN:VEVENT
UID:11@aproformacion.com
DTSTART;TZID=Europe/Madrid:20250801T090000
DTEND;TZID=Europe/Madrid:20250801T130000
DTSTAMP:20250730T110904Z
URL:https://aproformacion.com/events/4h-reciclaje-electricidad-2/
SUMMARY:4H RECICLAJE ELECTRICIDAD
DESCRIPTION:🔌 4H Reciclaje – Electricidad\n\n 	01/08/2025 – 09:00 a 
 13:00\n
END:VEVENT
BEGIN:VTIMEZONE
TZID:Europe/Madrid
X-LIC-LOCATION:Europe/Madrid
BEGIN:DAYLIGHT
DTSTART:20250330T030000
TZOFFSETFROM:+0100
TZOFFSETTO:+0200
TZNAME:CEST
END:DAYLIGHT
END:VTIMEZONE
END:VCALENDAR