BEGIN:VCALENDAR
VERSION:2.0
PRODID:-//wp-events-plugin.com//7.2.3.1//EN
TZID:Europe/Madrid
X-WR-TIMEZONE:Europe/Madrid
BEGIN:VEVENT
UID:22@aproformacion.com
DTSTART;TZID=Europe/Madrid:20250821T140000
DTEND;TZID=Europe/Madrid:20250821T180000
DTSTAMP:20250818T151614Z
URL:https://aproformacion.com/events/4h-reciclaje-prl-electricidad/
SUMMARY:4H Reciclaje PRL Electricidad
DESCRIPTION:⚡ 4H Reciclaje PRL Electricidad\n• 21/07 – 14:00 a 18:001
 4
END:VEVENT
BEGIN:VTIMEZONE
TZID:Europe/Madrid
X-LIC-LOCATION:Europe/Madrid
BEGIN:DAYLIGHT
DTSTART:20250330T030000
TZOFFSETFROM:+0100
TZOFFSETTO:+0200
TZNAME:CEST
END:DAYLIGHT
END:VTIMEZONE
END:VCALENDAR