BEGIN:VCALENDAR
VERSION:2.0
PRODID:-//wp-events-plugin.com//7.2.3.1//EN
TZID:Europe/Madrid
X-WR-TIMEZONE:Europe/Madrid
BEGIN:VEVENT
UID:263@aproformacion.com
DTSTART;TZID=Europe/Madrid:20260402T090000
DTEND;TZID=Europe/Madrid:20260402T130000
DTSTAMP:20260331T150529Z
URL:https://aproformacion.com/events/4h-recicleje-c12-trabajos-de-mecanica
 -mantenimiento-y-reparacion-de-maquinas-equipos-industriales-y-electrodome
 sticos/
SUMMARY:4H RECICLEJE C12 – Trabajos de mecánica\, mantenimiento y repara
 ción de máquinas\, equipos industriales y electrodomésticos
DESCRIPTION:🔩🛠️⚙️ 4H RECICLEJE C12 – Trabajos de mecánica\, 
 mantenimiento y reparación de máquinas\, equipos industriales y electrod
 omésticos\n\n02/04 – 09:00 a 13:00
END:VEVENT
BEGIN:VTIMEZONE
TZID:Europe/Madrid
X-LIC-LOCATION:Europe/Madrid
BEGIN:DAYLIGHT
DTSTART:20260329T030000
TZOFFSETFROM:+0100
TZOFFSETTO:+0200
TZNAME:CEST
END:DAYLIGHT
END:VTIMEZONE
END:VCALENDAR