BEGIN:VCALENDAR
VERSION:2.0
PRODID:-//wp-events-plugin.com//7.2.3.1//EN
TZID:Europe/Madrid
X-WR-TIMEZONE:Europe/Madrid
BEGIN:VEVENT
UID:136@aproformacion.com
DTSTART;TZID=Europe/Madrid:20251205T090000
DTEND;TZID=Europe/Madrid:20251205T130000
DTSTAMP:20251125T090454Z
URL:https://aproformacion.com/events/4h-seguridad-vial/
SUMMARY:4H Seguridad Vial
DESCRIPTION:⭐ 4H Seguridad Vial\n\n⭐ 05/12 – Seguridad Vial – 09
 :00 A 13:00.
END:VEVENT
BEGIN:VTIMEZONE
TZID:Europe/Madrid
X-LIC-LOCATION:Europe/Madrid
BEGIN:STANDARD
DTSTART:20251026T020000
TZOFFSETFROM:+0200
TZOFFSETTO:+0100
TZNAME:CET
END:STANDARD
END:VTIMEZONE
END:VCALENDAR