BEGIN:VCALENDAR
VERSION:2.0
PRODID:-//wp-events-plugin.com//7.2.3.1//EN
TZID:Europe/Madrid
X-WR-TIMEZONE:Europe/Madrid
BEGIN:VEVENT
UID:42@aproformacion.com
DTSTART;TZID=Europe/Madrid:20250903T000000
DTEND;TZID=Europe/Madrid:20250903T000000
DTSTAMP:20250829T123527Z
URL:https://aproformacion.com/events/60h-basico/
SUMMARY:60H BASICO
DESCRIPTION:\n 	03/09 – Día 1 – 09:00 a 14:00\n 	04/09 – Día 2 – 
 09:00 a 14:00\n 	24/09 – Día 3 – 09:00 a 14:00\n 	25/09 – Día 4 
 – 09:00 a 14:00\n
END:VEVENT
BEGIN:VTIMEZONE
TZID:Europe/Madrid
X-LIC-LOCATION:Europe/Madrid
BEGIN:DAYLIGHT
DTSTART:20250330T030000
TZOFFSETFROM:+0100
TZOFFSETTO:+0200
TZNAME:CEST
END:DAYLIGHT
END:VTIMEZONE
END:VCALENDAR