BEGIN:VCALENDAR
VERSION:2.0
PRODID:-//wp-events-plugin.com//7.2.3.1//EN
TZID:Europe/Madrid
X-WR-TIMEZONE:Europe/Madrid
BEGIN:VEVENT
UID:246@aproformacion.com
DTSTART;TZID=Europe/Madrid:20260323T140000
DTEND;TZID=Europe/Madrid:20260323T190000
DTSTAMP:20260312T152845Z
URL:https://aproformacion.com/events/60h-formacion-basica-4/
SUMMARY:60H Formación básica
DESCRIPTION:📚 60H Formación básica \n\n23/03 – Día 1 – 14:00 a 19
 :00\n25/03 – Día 2 – 14:00 a 19:00\n14/04 – Día 3 – 14:00 a 19:0
 0\n15/04 – Dia 4 – 14:00 a 19:00
END:VEVENT
BEGIN:VTIMEZONE
TZID:Europe/Madrid
X-LIC-LOCATION:Europe/Madrid
BEGIN:STANDARD
DTSTART:20251026T020000
TZOFFSETFROM:+0200
TZOFFSETTO:+0100
TZNAME:CET
END:STANDARD
END:VTIMEZONE
END:VCALENDAR