BEGIN:VCALENDAR
VERSION:2.0
PRODID:-//wp-events-plugin.com//7.2.3.1//EN
TZID:Europe/Madrid
X-WR-TIMEZONE:Europe/Madrid
BEGIN:VEVENT
UID:192@aproformacion.com
DTSTART;TZID=Europe/Madrid:20260204T090000
DTEND;TZID=Europe/Madrid:20260204T140000
DTSTAMP:20260130T132306Z
URL:https://aproformacion.com/events/60h-formacion-basica-tardes/
SUMMARY:60H Formación básica (TARDES)
DESCRIPTION:📚 60H Formación básica (TARDES)\n\n04/02 – Día 1 – 15
 :00 a 20:00\n05/02 – Día 2 – 15:00 a 20:00\n25/02 – Día 3 – 15:0
 0 a 20:00\n26/02 – Día 4 – 15:00 a 20:00
END:VEVENT
BEGIN:VTIMEZONE
TZID:Europe/Madrid
X-LIC-LOCATION:Europe/Madrid
BEGIN:STANDARD
DTSTART:20251026T020000
TZOFFSETFROM:+0200
TZOFFSETTO:+0100
TZNAME:CET
END:STANDARD
END:VTIMEZONE
END:VCALENDAR