BEGIN:VCALENDAR
VERSION:2.0
PRODID:-//wp-events-plugin.com//7.2.3.1//EN
TZID:Europe/Madrid
X-WR-TIMEZONE:Europe/Madrid
BEGIN:VEVENT
UID:87@aproformacion.com
DTSTART;TZID=Europe/Madrid:20251018T080000
DTEND;TZID=Europe/Madrid:20251018T140000
DTSTAMP:20251008T140108Z
URL:https://aproformacion.com/events/6h-albanileria-4/
SUMMARY:6H Albañilería
DESCRIPTION:6H Albañilería —\n• 18/10 – Especialidad Albañilería 
 – 08:00 a 14:00 (sábado)
END:VEVENT
BEGIN:VTIMEZONE
TZID:Europe/Madrid
X-LIC-LOCATION:Europe/Madrid
BEGIN:DAYLIGHT
DTSTART:20250330T030000
TZOFFSETFROM:+0100
TZOFFSETTO:+0200
TZNAME:CEST
END:DAYLIGHT
END:VTIMEZONE
END:VCALENDAR