BEGIN:VCALENDAR
VERSION:2.0
PRODID:-//wp-events-plugin.com//7.2.3.1//EN
TZID:Europe/Madrid
X-WR-TIMEZONE:Europe/Madrid
BEGIN:VEVENT
UID:186@aproformacion.com
DTSTART;TZID=Europe/Madrid:20260130T090000
DTEND;TZID=Europe/Madrid:20260130T150000
DTSTAMP:20260113T173931Z
URL:https://aproformacion.com/events/6h-aparatos-elevadores-4/
SUMMARY:6H Aparatos elevadores
DESCRIPTION:6H Aparatos elevadores (CONVENIO)\n30/01 – Especialidad Apara
 tos elevadores – 09:00 a 15:00
END:VEVENT
BEGIN:VTIMEZONE
TZID:Europe/Madrid
X-LIC-LOCATION:Europe/Madrid
BEGIN:STANDARD
DTSTART:20251026T020000
TZOFFSETFROM:+0200
TZOFFSETTO:+0100
TZNAME:CET
END:STANDARD
END:VTIMEZONE
END:VCALENDAR