BEGIN:VCALENDAR
VERSION:2.0
PRODID:-//wp-events-plugin.com//7.2.3.1//EN
TZID:Europe/Madrid
X-WR-TIMEZONE:Europe/Madrid
BEGIN:VEVENT
UID:163@aproformacion.com
DTSTART;TZID=Europe/Madrid:20260122T153000
DTEND;TZID=Europe/Madrid:20260122T203000
DTSTAMP:20260107T120330Z
URL:https://aproformacion.com/events/6h-aparatos-elevadores-practico/
SUMMARY:6H Aparatos elevadores. (PRACTICO)
DESCRIPTION:6H Aparatos elevadores. (PRACTICO)\n• 22/01 – Especialidad 
 Aparatos elevadores – 15:30 a 20:30
END:VEVENT
BEGIN:VTIMEZONE
TZID:Europe/Madrid
X-LIC-LOCATION:Europe/Madrid
BEGIN:STANDARD
DTSTART:20251026T020000
TZOFFSETFROM:+0200
TZOFFSETTO:+0100
TZNAME:CET
END:STANDARD
END:VTIMEZONE
END:VCALENDAR