BEGIN:VCALENDAR
VERSION:2.0
PRODID:-//wp-events-plugin.com//7.2.3.1//EN
TZID:Europe/Madrid
X-WR-TIMEZONE:Europe/Madrid
BEGIN:VEVENT
UID:23@aproformacion.com
DTSTART;TZID=Europe/Madrid:20250828T130000
DTEND;TZID=Europe/Madrid:20250828T190000
DTSTAMP:20250818T151820Z
URL:https://aproformacion.com/events/6h-aparatos-elevadores/
SUMMARY:6H Aparatos Elevadores
DESCRIPTION:🔝 6H Aparatos Elevadores\n• 28/08 – 13:00 a 19:00
END:VEVENT
BEGIN:VTIMEZONE
TZID:Europe/Madrid
X-LIC-LOCATION:Europe/Madrid
BEGIN:DAYLIGHT
DTSTART:20250330T030000
TZOFFSETFROM:+0100
TZOFFSETTO:+0200
TZNAME:CEST
END:DAYLIGHT
END:VTIMEZONE
END:VCALENDAR