BEGIN:VCALENDAR
VERSION:2.0
PRODID:-//wp-events-plugin.com//7.2.3.1//EN
TZID:Europe/Madrid
X-WR-TIMEZONE:Europe/Madrid
BEGIN:VEVENT
UID:189@aproformacion.com
DTSTART;TZID=Europe/Madrid:20260205T080000
DTEND;TZID=Europe/Madrid:20260205T140000
DTSTAMP:20260130T132130Z
URL:https://aproformacion.com/events/6h-carpinteria-metalica-11/
SUMMARY:6H Carpintería metálica
DESCRIPTION:🔧 Metal 6H Carpintería metálica \n\n05/02 – Especialidad
  carpintería metálica – 08:00 a 14:00
END:VEVENT
BEGIN:VTIMEZONE
TZID:Europe/Madrid
X-LIC-LOCATION:Europe/Madrid
BEGIN:STANDARD
DTSTART:20251026T020000
TZOFFSETFROM:+0200
TZOFFSETTO:+0100
TZNAME:CET
END:STANDARD
END:VTIMEZONE
END:VCALENDAR