BEGIN:VCALENDAR
VERSION:2.0
PRODID:-//wp-events-plugin.com//7.2.3.1//EN
TZID:Europe/Madrid
X-WR-TIMEZONE:Europe/Madrid
BEGIN:VEVENT
UID:28@aproformacion.com
DTSTART;TZID=Europe/Madrid:20250905T083000
DTEND;TZID=Europe/Madrid:20250905T143000
DTSTAMP:20250829T105851Z
URL:https://aproformacion.com/events/6h-carpinteria-metalica-2/
SUMMARY:6H CARPINTERIA METALICA
DESCRIPTION:\n 	05/09 – Especialidad Carpintería Metálica – 08:00 a 1
 4:00\n
END:VEVENT
BEGIN:VTIMEZONE
TZID:Europe/Madrid
X-LIC-LOCATION:Europe/Madrid
BEGIN:DAYLIGHT
DTSTART:20250330T030000
TZOFFSETFROM:+0100
TZOFFSETTO:+0200
TZNAME:CEST
END:DAYLIGHT
END:VTIMEZONE
END:VCALENDAR