BEGIN:VCALENDAR
VERSION:2.0
PRODID:-//wp-events-plugin.com//7.2.3.1//EN
TZID:Europe/Madrid
X-WR-TIMEZONE:Europe/Madrid
BEGIN:VEVENT
UID:30@aproformacion.com
DTSTART;TZID=Europe/Madrid:20250912T083000
DTEND;TZID=Europe/Madrid:20250912T143000
DTSTAMP:20250829T110101Z
URL:https://aproformacion.com/events/6h-carpinteria-metalica-3/
SUMMARY:6H CARPINTERIA METALICA
DESCRIPTION:• 12/09 – Especialidad Carpintería Metálica – 08:30 a 1
 4:30
END:VEVENT
BEGIN:VTIMEZONE
TZID:Europe/Madrid
X-LIC-LOCATION:Europe/Madrid
BEGIN:DAYLIGHT
DTSTART:20250330T030000
TZOFFSETFROM:+0100
TZOFFSETTO:+0200
TZNAME:CEST
END:DAYLIGHT
END:VTIMEZONE
END:VCALENDAR