BEGIN:VCALENDAR
VERSION:2.0
PRODID:-//wp-events-plugin.com//7.2.3.1//EN
TZID:Europe/Madrid
X-WR-TIMEZONE:Europe/Madrid
BEGIN:VEVENT
UID:62@aproformacion.com
DTSTART;TZID=Europe/Madrid:20251002T083000
DTEND;TZID=Europe/Madrid:20251002T143000
DTSTAMP:20250920T074113Z
URL:https://aproformacion.com/events/6h-carpinteria-metalica-4/
SUMMARY:6H CARPINTERIA METALICA
DESCRIPTION:6H Carpintería Metálica — Especialidad\n• 02/10 – Espec
 ialidad carpintería metálica – 08:30 A 14:30
END:VEVENT
BEGIN:VTIMEZONE
TZID:Europe/Madrid
X-LIC-LOCATION:Europe/Madrid
BEGIN:DAYLIGHT
DTSTART:20250330T030000
TZOFFSETFROM:+0100
TZOFFSETTO:+0200
TZNAME:CEST
END:DAYLIGHT
END:VTIMEZONE
END:VCALENDAR