BEGIN:VCALENDAR
VERSION:2.0
PRODID:-//wp-events-plugin.com//7.2.3.1//EN
TZID:Europe/Madrid
X-WR-TIMEZONE:Europe/Madrid
BEGIN:VEVENT
UID:105@aproformacion.com
DTSTART;TZID=Europe/Madrid:20251031T083000
DTEND;TZID=Europe/Madrid:20251031T143000
DTSTAMP:20251023T124526Z
URL:https://aproformacion.com/events/6h-carpinteria-metalica-6/
SUMMARY:6H Carpintería metálica
DESCRIPTION:6H Carpintería metálica \n\n• 31/10 – Especialidad Carpin
 tería metálica  – 08:30 a 14:30
END:VEVENT
BEGIN:VTIMEZONE
TZID:Europe/Madrid
X-LIC-LOCATION:Europe/Madrid
BEGIN:STANDARD
DTSTART:20251026T020000
TZOFFSETFROM:+0200
TZOFFSETTO:+0100
TZNAME:CET
END:STANDARD
END:VTIMEZONE
END:VCALENDAR